BEGIN:VCALENDAR
VERSION:2.0
PRODID:-//Maison de la poésie d&#039;Amay - ECPv5.1.2//NONSGML v1.0//EN
CALSCALE:GREGORIAN
METHOD:PUBLISH
X-WR-CALNAME:Maison de la poésie d&#039;Amay
X-ORIGINAL-URL:https://www.maisondelapoesie.com
X-WR-CALDESC:Évènements pour Maison de la poésie d&#039;Amay
BEGIN:VTIMEZONE
TZID:UTC
BEGIN:STANDARD
TZOFFSETFROM:+0000
TZOFFSETTO:+0000
TZNAME:UTC
DTSTART:20230101T000000
END:STANDARD
END:VTIMEZONE
BEGIN:VEVENT
DTSTART;VALUE=DATE:20230130
DTEND;VALUE=DATE:20230627
DTSTAMP:20260421T084009
CREATED:20200820T151401Z
LAST-MODIFIED:20230112T141135Z
UID:1793-1675036800-1687823999@www.maisondelapoesie.com
SUMMARY:Atelier slam & poésie orale [COMPLET]
DESCRIPTION:[vc_row content_placement= »middle »][vc_column width= »1/2″][vc_column_text css= ».vc_custom_1673532642435{background-color: #dd3333 !important;background-position: center !important;background-repeat: no-repeat !important;background-size: cover !important;} »] \nAtelier SLAM  \nAnimé par Catherine Barsics \nUn cycle d’ateliers autour du slam depuis l’écriture poétique jusqu’à la mise en voix. Se laisser inspirer par le son pour guider votre écriture\, y insuffler de la musicalité\, et faire vibrer vos textes… Prendre la parole pour partager vos écrits\, déployer leur rythme\, et trouver votre voie dans le versant oral de la poésie. Le slam est cet espace bienveillant qui se crée lorsque des textes personnels sont partagés en groupe\, sans musique ni costume. \nLes lundis 30/01\, 13/02\, 13 et 27/03\, 17/04\, 22/05\, 12 et 26/06 de 18h00 à 20h30 \nÀ Maison de la poésie\, 8 place des Cloîtres – 4540 Amay \n  \nATELIER COMPLET – fin des inscriptions\n[/vc_column_text][vc_separator color= »custom » el_width= »20″ accent_color= »rgba(20\,24\,39\,0.42) »][/vc_column][vc_column width= »1/2″][vc_single_image image= »5944″ img_size= »full »][/vc_column][/vc_row][vc_row][vc_column width= »1/2″]PAF Ateliers/séance[vc_column_text] \n\nCycle Slam (janvier à juin) : 80€ (8 ateliers) ou 2 tickets Article 27 par atelier\n\n[/vc_column_text]Coordonnées bancaires[vc_column_text] \n\nN° de compte : BE51 0014 6349 3762\nCommunication : nom + nom de l’atelier\nPaiement anticipé avant le 1er atelier pour confirmer l’inscription\n\n[/vc_column_text]Réservation[vc_column_text] \n\nPar téléphone : 085 315 232\nPar mail : plumeetpinceau@maisondelapoesie.com\n\n[/vc_column_text][/vc_column][vc_column width= »1/2″][/vc_column][/vc_row] \n
URL:https://www.maisondelapoesie.com/event/atelier-slam-pour-adultes/
LOCATION:Maison de la poésie d’Amay\, 8\, place des Cloîtres\, Amay\, 4540\, Belgique
CATEGORIES:Atelier
ATTACH;FMTTYPE=image/jpeg:https://www.maisondelapoesie.com/files/uploads/2020/08/Slam-1.jpg
END:VEVENT
END:VCALENDAR